BEGIN:VCALENDAR
VERSION:2.0
PRODID:-//ARTBA - ECPv6.15.12.2//NONSGML v1.0//EN
CALSCALE:GREGORIAN
METHOD:PUBLISH
X-ORIGINAL-URL:https://www.artba.org
X-WR-CALDESC:Events for ARTBA
REFRESH-INTERVAL;VALUE=DURATION:PT1H
X-Robots-Tag:noindex
X-PUBLISHED-TTL:PT1H
BEGIN:VTIMEZONE
TZID:UTC
BEGIN:STANDARD
TZOFFSETFROM:+0000
TZOFFSETTO:+0000
TZNAME:UTC
DTSTART:20250101T000000
END:STANDARD
END:VTIMEZONE
BEGIN:VEVENT
DTSTART;VALUE=DATE:20260511
DTEND;VALUE=DATE:20260514
DTSTAMP:20260421T030157
CREATED:20260402T000038Z
LAST-MODIFIED:20260402T180935Z
UID:10012868-1778457600-1778716799@www.artba.org
SUMMARY:2026 ARTBA Federal Issues Program (FIP) and TCC Fly-In
DESCRIPTION:
URL:https://www.artba.org/event/2026-artba-federal-issues-program-fip-and-tcc-fly-in/
END:VEVENT
BEGIN:VEVENT
DTSTART;VALUE=DATE:20260511
DTEND;VALUE=DATE:20260514
DTSTAMP:20260421T030157
CREATED:20260421T000015Z
LAST-MODIFIED:20260421T000015Z
UID:10013240-1778457600-1778716799@www.artba.org
SUMMARY:2026 Industry Leader Development Program
DESCRIPTION:
URL:https://www.artba.org/event/2026-industry-leader-development-program/
END:VEVENT
BEGIN:VEVENT
DTSTART;VALUE=DATE:20260713
DTEND;VALUE=DATE:20260715
DTSTAMP:20260421T030157
CREATED:20260421T000015Z
LAST-MODIFIED:20260421T000015Z
UID:10013242-1783900800-1784073599@www.artba.org
SUMMARY:13th Annual National Workshop for State & Local Transportation Advocates (TIAC)
DESCRIPTION:
URL:https://www.artba.org/event/13th-annual-national-workshop-for-state-local-transportation-advocates-tiac/
END:VEVENT
BEGIN:VEVENT
DTSTART;TZID=UTC:20260713T120000
DTEND;TZID=UTC:20260713T133000
DTSTAMP:20260421T030157
CREATED:20260421T000015Z
LAST-MODIFIED:20260421T000015Z
UID:10013244-1783944000-1783949400@www.artba.org
SUMMARY:ARTBA Engineering Issues Luncheon at NASTO
DESCRIPTION:
URL:https://www.artba.org/event/artba-engineering-issues-luncheon-at-nasto-3/
END:VEVENT
BEGIN:VEVENT
DTSTART;VALUE=DATE:20260714
DTEND;VALUE=DATE:20260717
DTSTAMP:20260421T030157
CREATED:20260421T000015Z
LAST-MODIFIED:20260421T000015Z
UID:10013246-1783987200-1784246399@www.artba.org
SUMMARY:38th Annual Public-Private Partnerships (P3s) in Transportation Conference
DESCRIPTION:
URL:https://www.artba.org/event/38th-annual-public-private-partnerships-p3s-in-transportation-conference/
END:VEVENT
BEGIN:VEVENT
DTSTART;TZID=UTC:20260720T070000
DTEND;TZID=UTC:20260720T083000
DTSTAMP:20260421T030157
CREATED:20260421T000016Z
LAST-MODIFIED:20260421T000016Z
UID:10013248-1784530800-1784536200@www.artba.org
SUMMARY:ARTBA Engineering Issues Breakfast at WASHTO
DESCRIPTION:
URL:https://www.artba.org/event/artba-engineering-issues-breakfast-at-washto-2/
END:VEVENT
BEGIN:VEVENT
DTSTART;VALUE=DATE:20260727
DTEND;VALUE=DATE:20260730
DTSTAMP:20260421T030157
CREATED:20260421T000016Z
LAST-MODIFIED:20260421T000016Z
UID:10013250-1785110400-1785369599@www.artba.org
SUMMARY:2026 ARTBA Council of State Executives Summer Meeting
DESCRIPTION:The annual Council of State Executives Summer Meeting is your opportunity to meet with peers from ARTBA chapters across the country. We will discuss federal legislative and regulatory matters\, state funding developments\, and association management issues. \nPlease note this meeting is invitation only. For more information\, please contact Savannah Waters  \nWe look forward to seeing you in Seattle! 
URL:https://www.artba.org/event/2026-artba-council-of-state-executives-summer-meeting/
END:VEVENT
BEGIN:VEVENT
DTSTART;TZID=UTC:20260812T070000
DTEND;TZID=UTC:20260812T083000
DTSTAMP:20260421T030157
CREATED:20260421T000016Z
LAST-MODIFIED:20260421T000016Z
UID:10013252-1786518000-1786523400@www.artba.org
SUMMARY:ARTBA Engineering Issues Breakfast at MAASTO
DESCRIPTION:
URL:https://www.artba.org/event/artba-engineering-issues-breakfast-at-maasto-3/
END:VEVENT
BEGIN:VEVENT
DTSTART;TZID=UTC:20260824T123000
DTEND;TZID=UTC:20260824T133000
DTSTAMP:20260421T030157
CREATED:20260421T000016Z
LAST-MODIFIED:20260421T000016Z
UID:10013254-1787574600-1787578200@www.artba.org
SUMMARY:ARTBA Engineering Issues Luncheon at SASHTO
DESCRIPTION:
URL:https://www.artba.org/event/artba-engineering-issues-luncheon-at-sashto-3/
END:VEVENT
BEGIN:VEVENT
DTSTART;VALUE=DATE:20260927
DTEND;VALUE=DATE:20261001
DTSTAMP:20260421T030157
CREATED:20260421T000017Z
LAST-MODIFIED:20260421T000017Z
UID:10013256-1790467200-1790812799@www.artba.org
SUMMARY:2026 ARTBA National Convention
DESCRIPTION:
URL:https://www.artba.org/event/2026-artba-national-convention/
END:VEVENT
BEGIN:VEVENT
DTSTART;VALUE=DATE:20270926
DTEND;VALUE=DATE:20270930
DTSTAMP:20260421T030157
CREATED:20260421T000017Z
LAST-MODIFIED:20260421T000017Z
UID:10013258-1821916800-1822262399@www.artba.org
SUMMARY:2027 ARTBA National Convention
DESCRIPTION:
URL:https://www.artba.org/event/2027-artba-national-convention/
END:VEVENT
END:VCALENDAR