BEGIN:VCALENDAR
VERSION:2.0
PRODID:-//ARTBA - ECPv6.15.12.2//NONSGML v1.0//EN
CALSCALE:GREGORIAN
METHOD:PUBLISH
X-ORIGINAL-URL:https://www.artba.org
X-WR-CALDESC:Events for ARTBA
REFRESH-INTERVAL;VALUE=DURATION:PT1H
X-Robots-Tag:noindex
X-PUBLISHED-TTL:PT1H
BEGIN:VTIMEZONE
TZID:UTC
BEGIN:STANDARD
TZOFFSETFROM:+0000
TZOFFSETTO:+0000
TZNAME:UTC
DTSTART:20230101T000000
END:STANDARD
END:VTIMEZONE
BEGIN:VEVENT
DTSTART;TZID=UTC:20250423T130000
DTEND;TZID=UTC:20250423T143000
DTSTAMP:20260425T081036
CREATED:20250423T000040Z
LAST-MODIFIED:20250423T000040Z
UID:10007178-1745413200-1745418600@www.artba.org
SUMMARY:Work Zone Speed Safety Camera (SSC) Webinar
DESCRIPTION:Speed Safety Cameras (SSCs) are a proven safety countermeasure\, shown to be effective in many applications\, including work zones. There is a growing number of states that have had success with speed management in work zones using SSC. This 90-minute webinar will provide an overview of state transportation agency experiences planning\, designing\, implementing\, and evaluating work zone SSC in their jurisdictions.  Topics include: \n\nWZ SSC Legislation – Michigan DOT will discuss their experience going through the process of developing and passing SSC legislation in their state.\nMoving Into Operations – Washington State DOT will describe their experience having recently begun the operational phase of their Work Zone SSC Program.\nMoving from Pilot to Program – Connecticut DOT will discuss how they moved to a full program after the completion of a successful pilot.\n\nThe webinar will also include a mini panel session\, where presenters will answer questions from the audience. \nThis webinar is hosted by the National Work Zone Safety Information Clearinghouse in partnership with the Federal Highway Administration (FHWA).  For more resources on Work Zone Speed Safety Cameras click here.
URL:https://www.artba.org/event/work-zone-speed-safety-camera-ssc-webinar/
END:VEVENT
BEGIN:VEVENT
DTSTART;VALUE=DATE:20250325
DTEND;VALUE=DATE:20250328
DTSTAMP:20260425T081036
CREATED:20250326T000002Z
LAST-MODIFIED:20250326T000002Z
UID:10006306-1742860800-1743119999@www.artba.org
SUMMARY:World of Asphalt Show & Conference
DESCRIPTION:
URL:https://www.artba.org/event/world-of-asphalt-show-conference/
END:VEVENT
BEGIN:VEVENT
DTSTART;TZID=UTC:20241205T110000
DTEND;TZID=UTC:20241205T120000
DTSTAMP:20260425T081036
CREATED:20241205T000022Z
LAST-MODIFIED:20241205T000022Z
UID:10004570-1733396400-1733400000@www.artba.org
SUMMARY:P3 Division Webinar
DESCRIPTION:Infrastructure Construction is a multifaceted industry encompassing the planning\, design\, and execution of projects\, ranging from small design-bid-build to large Public-Private-Partnership projects\, requiring coordinated efforts from various stakeholders including states\, concessionaires\, engineers\, contractors\, financiers\, legal\, Operations\, Technology\,  To transform a concept into an operational asset is an enormous task which  often faces challenges like cost management\, scheduling complexities\, and adherence to safety regulations while considering environmental impact and sustainability practices.  Today we are utilizing the largest number of Delivery methods to get these projects constructed.  We are using DBB\, DB\, CMAR\, CMGC and we are utilizing every funding source available whether it be federal\, state\, local or private monies.    \n  \nThe intent of this webinar will be to gain insight into the construction industries perspective on policy\, delivery method\, partnering\, workforce development and magnitude of work in recent and upcoming years. \n  \nModerator: \nJeff Taylor\, Vice President of Project Delivery\, Transurban \n  \nPanelists: \nGordon Dixon\, Executive Vice President\, Virginia Transportation Construction Alliance \n                Kent Starwalt\, Executive Vice President\, Tennessee Road Builders Association
URL:https://www.artba.org/event/p3-division-webinar/
END:VEVENT
BEGIN:VEVENT
DTSTART;TZID=UTC:20241204T140000
DTEND;TZID=UTC:20241204T150000
DTSTAMP:20260425T081036
CREATED:20241204T000015Z
LAST-MODIFIED:20241204T000015Z
UID:10004556-1733320800-1733324400@www.artba.org
SUMMARY:Workforce Development Council Meeting
DESCRIPTION:
URL:https://www.artba.org/event/workforce-development-council-meeting/
END:VEVENT
BEGIN:VEVENT
DTSTART;TZID=UTC:20241107T120000
DTEND;TZID=UTC:20241107T124500
DTSTAMP:20260425T081036
CREATED:20241107T000001Z
LAST-MODIFIED:20241107T000002Z
UID:10004248-1730980800-1730983500@www.artba.org
SUMMARY:ARTBA 2024 Post-Election Analysis
DESCRIPTION:ARTBA’s government affairs team will provide insight into how changes in Congress and the White House may affect transportation construction.
URL:https://www.artba.org/event/artba-2024-post-election-analysis/
END:VEVENT
BEGIN:VEVENT
DTSTART;VALUE=DATE:20241028
DTEND;VALUE=DATE:20241031
DTSTAMP:20260425T081036
CREATED:20241029T000036Z
LAST-MODIFIED:20241029T000036Z
UID:10004176-1730073600-1730332799@www.artba.org
SUMMARY:Northeastern Regional Meeting
DESCRIPTION:Platinum\n \n\n\n\n\n\n\n\n\n\n\n\nGold\n \nSilver
URL:https://www.artba.org/event/northeastern-regional-meeting/
END:VEVENT
BEGIN:VEVENT
DTSTART;VALUE=DATE:20241023
DTEND;VALUE=DATE:20241026
DTSTAMP:20260425T081036
CREATED:20241024T051516Z
LAST-MODIFIED:20241024T051516Z
UID:10004118-1729641600-1729900799@www.artba.org
SUMMARY:Southern Regional Meeting
DESCRIPTION:Platinum\n \nGold\n\nSilver\n  
URL:https://www.artba.org/event/southern-regional-meeting/
CATEGORIES:Regional Meeting
END:VEVENT
BEGIN:VEVENT
DTSTART;VALUE=DATE:20241022
DTEND;VALUE=DATE:20241025
DTSTAMP:20260425T081036
CREATED:20241023T000002Z
LAST-MODIFIED:20241023T000002Z
UID:10004100-1729555200-1729814399@www.artba.org
SUMMARY:Virtual Work Zone Management Conference
DESCRIPTION:Register today! Join in on the latest discussions on best work zone management practices and current industry trends.
URL:https://www.artba.org/event/virtual-work-zone-management-conference/
END:VEVENT
BEGIN:VEVENT
DTSTART;VALUE=DATE:20241016
DTEND;VALUE=DATE:20241019
DTSTAMP:20260425T081036
CREATED:20241017T000002Z
LAST-MODIFIED:20241017T000002Z
UID:10004044-1729036800-1729295999@www.artba.org
SUMMARY:Western & Central Regional Meeting
DESCRIPTION:Platinum\n \nSilver
URL:https://www.artba.org/event/western-central-regional-meeting/
END:VEVENT
BEGIN:VEVENT
DTSTART;VALUE=DATE:20240922
DTEND;VALUE=DATE:20240926
DTSTAMP:20260425T081036
CREATED:20240523T000004Z
LAST-MODIFIED:20240722T210229Z
UID:10002080-1726963200-1727308799@www.artba.org
SUMMARY:ARTBA National Convention
DESCRIPTION:
URL:https://www.artba.org/event/artba-national-convention/
END:VEVENT
BEGIN:VEVENT
DTSTART;TZID=UTC:20240905T150000
DTEND;TZID=UTC:20240907T120000
DTSTAMP:20260425T081036
CREATED:20240907T000005Z
LAST-MODIFIED:20240907T000005Z
UID:10003594-1725548400-1725710400@www.artba.org
SUMMARY:2024 AASHTO/AGC/ARTBA Joint Committee Meeting
DESCRIPTION:For Committee Members Only \n— \nRooms cutoff: July 21 \nCheck-in time: 4 p.m. \nCheck-out time: 12 Noon \nReservations procedures: \n\nAttendees can reach the Reservations Office M-F 8a-6p and weekends 830a-5p (hours may change) at 866-494-0085. To get the special rate they need to mention the group name which is “Joint Committee” and the dates of the event.  \nGuests can go to the website 24/7 www.otesaga.com and use group code 4117048. Please note this code is only to be used online and not when calling in.\n\nCancellation procedure for attendees: A one-night deposit is required at booking to confirm your reservation. Cancellations between the booking date and 30 days prior to arrival will incur a $55.00 administrative fee (per room). At this 30-day period we will then charge the remaining balance of your stay & it becomes non-refundable. Failure to arrive on the confirmed arrival date will result in the cancellation of your stay and the forfeiture of your entire deposit. Cancellations or changes made within 30 days of arrival will result in entire deposit forfeiture.
URL:https://www.artba.org/event/2024-aashto-agc-artba-joint-committee-meeting/
END:VEVENT
BEGIN:VEVENT
DTSTART;TZID=UTC:20240828T070000
DTEND;TZID=UTC:20240828T083000
DTSTAMP:20260425T081036
CREATED:20240828T000011Z
LAST-MODIFIED:20240828T000011Z
UID:10003494-1724828400-1724833800@www.artba.org
SUMMARY:ARTBA Engineering Issues Breakfast at MAASTO
DESCRIPTION:
URL:https://www.artba.org/event/artba-engineering-issues-breakfast-at-maasto/
END:VEVENT
BEGIN:VEVENT
DTSTART;TZID=UTC:20240819T120000
DTEND;TZID=UTC:20240819T133000
DTSTAMP:20260425T081036
CREATED:20240819T000003Z
LAST-MODIFIED:20240819T000003Z
UID:10003402-1724068800-1724074200@www.artba.org
SUMMARY:ARTBA Engineering Issues Luncheon at SASHTO
DESCRIPTION:
URL:https://www.artba.org/event/artba-engineering-issues-luncheon-at-sashto/
END:VEVENT
BEGIN:VEVENT
DTSTART;TZID=UTC:20240722T120000
DTEND;TZID=UTC:20240722T133000
DTSTAMP:20260425T081036
CREATED:20240722T000018Z
LAST-MODIFIED:20240722T000018Z
UID:10003062-1721649600-1721655000@www.artba.org
SUMMARY:ARTBA Engineering Issues Luncheon at NASTO
DESCRIPTION:
URL:https://www.artba.org/event/artba-engineering-issues-luncheon-at-nasto/
END:VEVENT
BEGIN:VEVENT
DTSTART;VALUE=DATE:20240716
DTEND;VALUE=DATE:20240719
DTSTAMP:20260425T081036
CREATED:20240322T000003Z
LAST-MODIFIED:20240516T181828Z
UID:10001020-1721088000-1721347199@www.artba.org
SUMMARY:Public-Private Partnerships (P3s) in Transportation Conference
DESCRIPTION:
URL:https://www.artba.org/event/public-private-partnerships-p3s-in-transportation-conference/
END:VEVENT
BEGIN:VEVENT
DTSTART;VALUE=DATE:20240715
DTEND;VALUE=DATE:20240717
DTSTAMP:20260425T081036
CREATED:20240315T000002Z
LAST-MODIFIED:20240315T185806Z
UID:10000904-1721001600-1721174399@www.artba.org
SUMMARY:National Workshop for State & Local Transportation Advocates (TIAC)
DESCRIPTION:
URL:https://www.artba.org/event/national-workshop-for-state-local-transportation-advocates-tiac/
END:VEVENT
BEGIN:VEVENT
DTSTART;TZID=UTC:20240709T120000
DTEND;TZID=UTC:20240709T131500
DTSTAMP:20260425T081036
CREATED:20240709T000010Z
LAST-MODIFIED:20240709T000010Z
UID:10002878-1720526400-1720530900@www.artba.org
SUMMARY:ARTBA Engineering Issues Luncheon at WASHTO
DESCRIPTION:
URL:https://www.artba.org/event/artba-engineering-issues-luncheon-at-washto/
END:VEVENT
BEGIN:VEVENT
DTSTART;TZID=UTC:20240625T173000
DTEND;TZID=UTC:20240625T210000
DTSTAMP:20260425T081036
CREATED:20240625T000009Z
LAST-MODIFIED:20240625T000009Z
UID:10002652-1719336600-1719349200@www.artba.org
SUMMARY:TSID Summer Classic
DESCRIPTION:This year’s TSID Summer Classic will be an evening ferry cruise and lobster bake at Peak’s Island! \nAttendees will meet at Casco Bay Lines dock (56 Commercial Street\, Portland\, ME\, 04101) by 5:30 p.m. for sailing. The dock is about a twenty-minute walk from the hotel. Bus transportation will also be available. \nFor attendees that are government employees\, a payment of $40 may be made by cash or check at the time of the event. \n 
URL:https://www.artba.org/event/tsid-summer-classic/
END:VEVENT
BEGIN:VEVENT
DTSTART;TZID=UTC:20240624T110000
DTEND;TZID=UTC:20240624T120000
DTSTAMP:20260425T081036
CREATED:20240624T000031Z
LAST-MODIFIED:20240624T000031Z
UID:10002632-1719226800-1719230400@www.artba.org
SUMMARY:The Growing Impact of Artificial Intelligence (AI) in Transportation Construction
DESCRIPTION:
URL:https://www.artba.org/event/the-growing-impact-of-artificial-intelligence-ai-in-transportation-construction/
END:VEVENT
BEGIN:VEVENT
DTSTART;TZID=UTC:20240523T150000
DTEND;TZID=UTC:20240523T160000
DTSTAMP:20260425T081036
CREATED:20240523T000002Z
LAST-MODIFIED:20240523T000002Z
UID:10002070-1716476400-1716480000@www.artba.org
SUMMARY:Understanding the New DBE Rule Revisions
DESCRIPTION:
URL:https://www.artba.org/event/understanding-the-new-dbe-rule-revisions/
END:VEVENT
BEGIN:VEVENT
DTSTART;VALUE=DATE:20240513
DTEND;VALUE=DATE:20240516
DTSTAMP:20260425T081036
CREATED:20240310T000017Z
LAST-MODIFIED:20240311T183543Z
UID:10000814-1715558400-1715817599@www.artba.org
SUMMARY:ARTBA Federal Issues Program & TCC Fly-In
DESCRIPTION:
URL:https://www.artba.org/event/artba-federal-issues-program-tcc-fly-in/
END:VEVENT
BEGIN:VEVENT
DTSTART;TZID=UTC:20240424T133000
DTEND;TZID=UTC:20240424T143000
DTSTAMP:20260425T081036
CREATED:20240424T000011Z
LAST-MODIFIED:20240424T000011Z
UID:10001590-1713965400-1713969000@www.artba.org
SUMMARY:Innovative Programs to Increase Women’s Leadership in Transportation
DESCRIPTION:
URL:https://www.artba.org/event/innovative-programs-to-increase-womens-leadership-in-transportation/
END:VEVENT
BEGIN:VEVENT
DTSTART;TZID=UTC:20240313T140000
DTEND;TZID=UTC:20240313T150000
DTSTAMP:20260425T081036
CREATED:20240313T000002Z
LAST-MODIFIED:20240313T000002Z
UID:10000870-1710338400-1710342000@www.artba.org
SUMMARY:Hard Hats vs. Helmets
DESCRIPTION:Join the Clearinghouse for a free webinar discussing the benefits and challenges that come with switching your team from hardats to helmets. Hear directly from safety leaders at organizations that have already made the switch. Discussion will focus on: \n\nWhy are helmets more protective?\nReal-life situations where helmets saved lives.\nRealities and practicalities of using helmets\, including cost.\nChallenges you face\, including getting worker buy-in.\nAccommodating your employees’ diverse needs and preferences.\n\nIf you have been curious about or thinking of making the switch to helmets\, this webinar is for you. Don’t be a hardhead – register today! \nFeatured Speakers: \n\nMarchel Johnson\, Assistant Director for Safety\, Virginia Department of Transportation\nPaul Ziegler\, Vice President\, Safety\, Allan Myers
URL:https://www.artba.org/event/hard-hats-vs-helmets/
END:VEVENT
END:VCALENDAR