BEGIN:VCALENDAR
VERSION:2.0
PRODID:-//ARTBA - ECPv6.15.12.2//NONSGML v1.0//EN
CALSCALE:GREGORIAN
METHOD:PUBLISH
X-WR-CALNAME:ARTBA
X-ORIGINAL-URL:https://www.artba.org
X-WR-CALDESC:Events for ARTBA
REFRESH-INTERVAL;VALUE=DURATION:PT1H
X-Robots-Tag:noindex
X-PUBLISHED-TTL:PT1H
BEGIN:VTIMEZONE
TZID:UTC
BEGIN:STANDARD
TZOFFSETFROM:+0000
TZOFFSETTO:+0000
TZNAME:UTC
DTSTART:20230101T000000
END:STANDARD
END:VTIMEZONE
BEGIN:VEVENT
DTSTART;TZID=UTC:20240819T120000
DTEND;TZID=UTC:20240819T133000
DTSTAMP:20260425T093602
CREATED:20240819T000003Z
LAST-MODIFIED:20240819T000003Z
UID:10003402-1724068800-1724074200@www.artba.org
SUMMARY:ARTBA Engineering Issues Luncheon at SASHTO
DESCRIPTION:
URL:https://www.artba.org/event/artba-engineering-issues-luncheon-at-sashto/
END:VEVENT
BEGIN:VEVENT
DTSTART;TZID=UTC:20240722T120000
DTEND;TZID=UTC:20240722T133000
DTSTAMP:20260425T093602
CREATED:20240722T000018Z
LAST-MODIFIED:20240722T000018Z
UID:10003062-1721649600-1721655000@www.artba.org
SUMMARY:ARTBA Engineering Issues Luncheon at NASTO
DESCRIPTION:
URL:https://www.artba.org/event/artba-engineering-issues-luncheon-at-nasto/
END:VEVENT
BEGIN:VEVENT
DTSTART;VALUE=DATE:20240716
DTEND;VALUE=DATE:20240719
DTSTAMP:20260425T093602
CREATED:20240322T000003Z
LAST-MODIFIED:20240516T181828Z
UID:10001020-1721088000-1721347199@www.artba.org
SUMMARY:Public-Private Partnerships (P3s) in Transportation Conference
DESCRIPTION:
URL:https://www.artba.org/event/public-private-partnerships-p3s-in-transportation-conference/
END:VEVENT
BEGIN:VEVENT
DTSTART;VALUE=DATE:20240715
DTEND;VALUE=DATE:20240717
DTSTAMP:20260425T093602
CREATED:20240315T000002Z
LAST-MODIFIED:20240315T185806Z
UID:10000904-1721001600-1721174399@www.artba.org
SUMMARY:National Workshop for State & Local Transportation Advocates (TIAC)
DESCRIPTION:
URL:https://www.artba.org/event/national-workshop-for-state-local-transportation-advocates-tiac/
END:VEVENT
BEGIN:VEVENT
DTSTART;TZID=UTC:20240709T120000
DTEND;TZID=UTC:20240709T131500
DTSTAMP:20260425T093602
CREATED:20240709T000010Z
LAST-MODIFIED:20240709T000010Z
UID:10002878-1720526400-1720530900@www.artba.org
SUMMARY:ARTBA Engineering Issues Luncheon at WASHTO
DESCRIPTION:
URL:https://www.artba.org/event/artba-engineering-issues-luncheon-at-washto/
END:VEVENT
BEGIN:VEVENT
DTSTART;TZID=UTC:20240625T173000
DTEND;TZID=UTC:20240625T210000
DTSTAMP:20260425T093602
CREATED:20240625T000009Z
LAST-MODIFIED:20240625T000009Z
UID:10002652-1719336600-1719349200@www.artba.org
SUMMARY:TSID Summer Classic
DESCRIPTION:This year’s TSID Summer Classic will be an evening ferry cruise and lobster bake at Peak’s Island! \nAttendees will meet at Casco Bay Lines dock (56 Commercial Street\, Portland\, ME\, 04101) by 5:30 p.m. for sailing. The dock is about a twenty-minute walk from the hotel. Bus transportation will also be available. \nFor attendees that are government employees\, a payment of $40 may be made by cash or check at the time of the event. \n 
URL:https://www.artba.org/event/tsid-summer-classic/
END:VEVENT
BEGIN:VEVENT
DTSTART;TZID=UTC:20240624T110000
DTEND;TZID=UTC:20240624T120000
DTSTAMP:20260425T093602
CREATED:20240624T000031Z
LAST-MODIFIED:20240624T000031Z
UID:10002632-1719226800-1719230400@www.artba.org
SUMMARY:The Growing Impact of Artificial Intelligence (AI) in Transportation Construction
DESCRIPTION:
URL:https://www.artba.org/event/the-growing-impact-of-artificial-intelligence-ai-in-transportation-construction/
END:VEVENT
BEGIN:VEVENT
DTSTART;TZID=UTC:20240523T150000
DTEND;TZID=UTC:20240523T160000
DTSTAMP:20260425T093602
CREATED:20240523T000002Z
LAST-MODIFIED:20240523T000002Z
UID:10002070-1716476400-1716480000@www.artba.org
SUMMARY:Understanding the New DBE Rule Revisions
DESCRIPTION:
URL:https://www.artba.org/event/understanding-the-new-dbe-rule-revisions/
END:VEVENT
BEGIN:VEVENT
DTSTART;VALUE=DATE:20240513
DTEND;VALUE=DATE:20240516
DTSTAMP:20260425T093602
CREATED:20240310T000017Z
LAST-MODIFIED:20240311T183543Z
UID:10000814-1715558400-1715817599@www.artba.org
SUMMARY:ARTBA Federal Issues Program & TCC Fly-In
DESCRIPTION:
URL:https://www.artba.org/event/artba-federal-issues-program-tcc-fly-in/
END:VEVENT
BEGIN:VEVENT
DTSTART;TZID=UTC:20240424T133000
DTEND;TZID=UTC:20240424T143000
DTSTAMP:20260425T093602
CREATED:20240424T000011Z
LAST-MODIFIED:20240424T000011Z
UID:10001590-1713965400-1713969000@www.artba.org
SUMMARY:Innovative Programs to Increase Women’s Leadership in Transportation
DESCRIPTION:
URL:https://www.artba.org/event/innovative-programs-to-increase-womens-leadership-in-transportation/
END:VEVENT
BEGIN:VEVENT
DTSTART;TZID=UTC:20240313T140000
DTEND;TZID=UTC:20240313T150000
DTSTAMP:20260425T093602
CREATED:20240313T000002Z
LAST-MODIFIED:20240313T000002Z
UID:10000870-1710338400-1710342000@www.artba.org
SUMMARY:Hard Hats vs. Helmets
DESCRIPTION:Join the Clearinghouse for a free webinar discussing the benefits and challenges that come with switching your team from hardats to helmets. Hear directly from safety leaders at organizations that have already made the switch. Discussion will focus on: \n\nWhy are helmets more protective?\nReal-life situations where helmets saved lives.\nRealities and practicalities of using helmets\, including cost.\nChallenges you face\, including getting worker buy-in.\nAccommodating your employees’ diverse needs and preferences.\n\nIf you have been curious about or thinking of making the switch to helmets\, this webinar is for you. Don’t be a hardhead – register today! \nFeatured Speakers: \n\nMarchel Johnson\, Assistant Director for Safety\, Virginia Department of Transportation\nPaul Ziegler\, Vice President\, Safety\, Allan Myers
URL:https://www.artba.org/event/hard-hats-vs-helmets/
END:VEVENT
END:VCALENDAR