BEGIN:VCALENDAR
VERSION:2.0
PRODID:-//ARTBA - ECPv6.15.12.2//NONSGML v1.0//EN
CALSCALE:GREGORIAN
METHOD:PUBLISH
X-ORIGINAL-URL:https://www.artba.org
X-WR-CALDESC:Events for ARTBA
REFRESH-INTERVAL;VALUE=DURATION:PT1H
X-Robots-Tag:noindex
X-PUBLISHED-TTL:PT1H
BEGIN:VTIMEZONE
TZID:UTC
BEGIN:STANDARD
TZOFFSETFROM:+0000
TZOFFSETTO:+0000
TZNAME:UTC
DTSTART:20240101T000000
END:STANDARD
END:VTIMEZONE
BEGIN:VEVENT
DTSTART;VALUE=DATE:20250506
DTEND;VALUE=DATE:20250509
DTSTAMP:20260425T220700
CREATED:20250507T000028Z
LAST-MODIFIED:20250507T000028Z
UID:10007544-1746489600-1746748799@www.artba.org
SUMMARY:2025 ARTBA Federal Issues Program and TCC Fly-In
DESCRIPTION:
URL:https://www.artba.org/event/2025-artba-federal-issues-program-and-tcc-fly-in/
END:VEVENT
BEGIN:VEVENT
DTSTART;VALUE=DATE:20250506
DTEND;VALUE=DATE:20250509
DTSTAMP:20260425T220700
CREATED:20250507T000028Z
LAST-MODIFIED:20250507T000028Z
UID:10007546-1746489600-1746748799@www.artba.org
SUMMARY:Industry Leader Development Program
DESCRIPTION:
URL:https://www.artba.org/event/industry-leader-development-program/
END:VEVENT
BEGIN:VEVENT
DTSTART;TZID=UTC:20250522T140000
DTEND;TZID=UTC:20250522T150000
DTSTAMP:20260425T220700
CREATED:20250522T000017Z
LAST-MODIFIED:20250522T000017Z
UID:10007894-1747922400-1747926000@www.artba.org
SUMMARY:Tariffs and Transportation Construction Webinar
DESCRIPTION:
URL:https://www.artba.org/event/tariffs-and-transportation-construction-webinar/
END:VEVENT
END:VCALENDAR