BEGIN:VCALENDAR
VERSION:2.0
PRODID:-//ARTBA - ECPv6.15.12.2//NONSGML v1.0//EN
CALSCALE:GREGORIAN
METHOD:PUBLISH
X-WR-CALNAME:ARTBA
X-ORIGINAL-URL:https://www.artba.org
X-WR-CALDESC:Events for ARTBA
REFRESH-INTERVAL;VALUE=DURATION:PT1H
X-Robots-Tag:noindex
X-PUBLISHED-TTL:PT1H
BEGIN:VTIMEZONE
TZID:UTC
BEGIN:STANDARD
TZOFFSETFROM:+0000
TZOFFSETTO:+0000
TZNAME:UTC
DTSTART:20240101T000000
END:STANDARD
END:VTIMEZONE
BEGIN:VEVENT
DTSTART;TZID=UTC:20250709T123000
DTEND;TZID=UTC:20250709T140000
DTSTAMP:20260425T194154
CREATED:20250709T000025Z
LAST-MODIFIED:20250709T000025Z
UID:10009046-1752064200-1752069600@www.artba.org
SUMMARY:ARTBA Engineering Issues Luncheon at NASTO
DESCRIPTION:
URL:https://www.artba.org/event/artba-engineering-issues-luncheon-at-nasto-2/
END:VEVENT
BEGIN:VEVENT
DTSTART;VALUE=DATE:20250714
DTEND;VALUE=DATE:20250716
DTSTAMP:20260425T194154
CREATED:20250714T000026Z
LAST-MODIFIED:20250714T000026Z
UID:10009158-1752451200-1752623999@www.artba.org
SUMMARY:12th Annual National Workshop for State & Local Transportation Advocates (TIAC)
DESCRIPTION:
URL:https://www.artba.org/event/12th-annual-national-workshop-for-state-local-transportation-advocates-tiac/
END:VEVENT
BEGIN:VEVENT
DTSTART;VALUE=DATE:20250715
DTEND;VALUE=DATE:20250718
DTSTAMP:20260425T194154
CREATED:20250716T000039Z
LAST-MODIFIED:20250716T000039Z
UID:10009200-1752537600-1752796799@www.artba.org
SUMMARY:37th Annual Public-Private Partnerships (P3s) in Transportation Conference
DESCRIPTION:
URL:https://www.artba.org/event/37th-annual-public-private-partnerships-p3s-in-transportation-conference/
END:VEVENT
BEGIN:VEVENT
DTSTART;TZID=UTC:20250721T070000
DTEND;TZID=UTC:20250721T083000
DTSTAMP:20260425T194154
CREATED:20250721T000036Z
LAST-MODIFIED:20250721T000036Z
UID:10009292-1753081200-1753086600@www.artba.org
SUMMARY:ARTBA Engineering Issues Breakfast at WASHTO
DESCRIPTION:
URL:https://www.artba.org/event/artba-engineering-issues-breakfast-at-washto/
END:VEVENT
END:VCALENDAR