BEGIN:VCALENDAR
VERSION:2.0
PRODID:-//ARTBA - ECPv6.15.12.2//NONSGML v1.0//EN
CALSCALE:GREGORIAN
METHOD:PUBLISH
X-WR-CALNAME:ARTBA
X-ORIGINAL-URL:https://www.artba.org
X-WR-CALDESC:Events for ARTBA
REFRESH-INTERVAL;VALUE=DURATION:PT1H
X-Robots-Tag:noindex
X-PUBLISHED-TTL:PT1H
BEGIN:VTIMEZONE
TZID:UTC
BEGIN:STANDARD
TZOFFSETFROM:+0000
TZOFFSETTO:+0000
TZNAME:UTC
DTSTART:20240101T000000
END:STANDARD
END:VTIMEZONE
BEGIN:VEVENT
DTSTART;VALUE=DATE:20251103
DTEND;VALUE=DATE:20251106
DTSTAMP:20260425T140611
CREATED:20251104T000011Z
LAST-MODIFIED:20251104T000011Z
UID:10010800-1762128000-1762387199@www.artba.org
SUMMARY:Southern Regional Meeting & the Dr. J. Don Brock TransOvation Program
DESCRIPTION:Platinum\n \n\n\n\n\n\n\nGold\n \nSilver
URL:https://www.artba.org/event/southern-regional-meeting-the-dr-j-don-brock-transovation-program/
END:VEVENT
BEGIN:VEVENT
DTSTART;VALUE=DATE:20251112
DTEND;VALUE=DATE:20251115
DTSTAMP:20260425T140611
CREATED:20251113T000017Z
LAST-MODIFIED:20251113T000017Z
UID:10010874-1762905600-1763164799@www.artba.org
SUMMARY:Western & Central Regional Meeting
DESCRIPTION:Gold\n \nSilver
URL:https://www.artba.org/event/western-central-regional-meeting-2/
END:VEVENT
END:VCALENDAR