BEGIN:VCALENDAR
VERSION:2.0
PRODID:-//ARTBA - ECPv6.15.12.2//NONSGML v1.0//EN
CALSCALE:GREGORIAN
METHOD:PUBLISH
X-WR-CALNAME:ARTBA
X-ORIGINAL-URL:https://www.artba.org
X-WR-CALDESC:Events for ARTBA
REFRESH-INTERVAL;VALUE=DURATION:PT1H
X-Robots-Tag:noindex
X-PUBLISHED-TTL:PT1H
BEGIN:VTIMEZONE
TZID:UTC
BEGIN:STANDARD
TZOFFSETFROM:+0000
TZOFFSETTO:+0000
TZNAME:UTC
DTSTART:20240101T000000
END:STANDARD
END:VTIMEZONE
BEGIN:VEVENT
DTSTART;TZID=UTC:20251210T140000
DTEND;TZID=UTC:20251210T150000
DTSTAMP:20260425T124753
CREATED:20251210T000028Z
LAST-MODIFIED:20251210T000028Z
UID:10011054-1765375200-1765378800@www.artba.org
SUMMARY:How to Build an “Award-Winning Safety Program”
DESCRIPTION:What does it take to achieve an EMR as low as 0.44 and an OSHA recordable rate of just 0.33?Join us for a powerful conversation with transportation construction contractors who’ve done exactly that. These nationally recognized safety leaders will reveal the proven strategies behind their exceptional results—saving lives\, strengthening morale\, and giving their companies a competitive edge. \nWhether you’re building a new safety culture or refining an existing one\, this session will deliver practical insights you can apply immediately. \n  \nReserve your spot now for this free webinar and learn what it takes to lead with safety.
URL:https://www.artba.org/event/how-to-build-an-award-winning-safety-program/
END:VEVENT
END:VCALENDAR