BEGIN:VCALENDAR
VERSION:2.0
PRODID:-//ARTBA - ECPv6.15.12.2//NONSGML v1.0//EN
CALSCALE:GREGORIAN
METHOD:PUBLISH
X-WR-CALNAME:ARTBA
X-ORIGINAL-URL:https://www.artba.org
X-WR-CALDESC:Events for ARTBA
REFRESH-INTERVAL;VALUE=DURATION:PT1H
X-Robots-Tag:noindex
X-PUBLISHED-TTL:PT1H
BEGIN:VTIMEZONE
TZID:UTC
BEGIN:STANDARD
TZOFFSETFROM:+0000
TZOFFSETTO:+0000
TZNAME:UTC
DTSTART:20250101T000000
END:STANDARD
END:VTIMEZONE
BEGIN:VEVENT
DTSTART;TZID=UTC:20260126T110000
DTEND;TZID=UTC:20260126T120000
DTSTAMP:20260425T111518
CREATED:20260126T000046Z
LAST-MODIFIED:20260126T000046Z
UID:10011650-1769425200-1769428800@www.artba.org
SUMMARY:Pricing the Unpredictable: Risk Sharing Amid Shocks\, Shortages and Shifts
DESCRIPTION:
URL:https://www.artba.org/event/pricing-the-unpredictable-risk-sharing-amid-shocks-shortages-and-shifts/
END:VEVENT
END:VCALENDAR